View In:
ArcGIS JavaScript
ArcGIS Online Map Viewer
ArcGIS Earth
Service Description: tnw_ggm_r40_Clip
Name: tnw_ggm_r40_Clip
Description:
Single Fused Map Cache: false
Extent:
XMin: 675362.0
YMin: 5987292.0
XMax: 677467.0
YMax: 5988867.0
Spatial Reference: 25831
(25831)
LatestVCSWkid(0)
Initial Extent:
XMin: 675362.0
YMin: 5987292.0
XMax: 677467.0
YMax: 5988867.0
Spatial Reference: 25831
(25831)
LatestVCSWkid(0)
Full Extent:
XMin: 675362.0
YMin: 5987292.0
XMax: 677467.0
YMax: 5988867.0
Spatial Reference: 25831
(25831)
LatestVCSWkid(0)
Pixel Size X: 5.0
Pixel Size Y: 5.0
Band Count: 1
Pixel Type: F32
RasterFunction Infos: {"rasterFunctionInfos": [{
"name": "None",
"description": "",
"help": ""
}]}
Mensuration Capabilities: Basic
Inspection Capabilities:
Has Histograms: true
Has Colormap: false
Has Multi Dimensions : false
Rendering Rule:
Min Scale: 0
Max Scale: 0
Copyright Text:
Service Data Type: esriImageServiceDataTypeGeneric
Min Values: -97.81300354003906
Max Values: -47.731998443603516
Mean Values: -57.538202506323785
Standard Deviation Values: 10.437148193639043
Object ID Field:
Fields:
None
Default Mosaic Method: Center
Allowed Mosaic Methods:
SortField:
SortValue: null
Mosaic Operator: First
Default Compression Quality: 75
Default Resampling Method: Bilinear
Max Record Count: null
Max Image Height: 4100
Max Image Width: 15000
Max Download Image Count: null
Max Mosaic Image Count: null
Allow Raster Function: true
Allow Copy: true
Allow Analysis: true
Allow Compute TiePoints: false
Supports Statistics: false
Supports Advanced Queries: false
Use StandardizedQueries: true
Raster Type Infos:
Name: Raster Dataset
Description: Supports all ArcGIS Raster Datasets
Help:
Has Raster Attribute Table: false
Edit Fields Info: null
Ownership Based AccessControl For Rasters: null
Child Resources:
Info
Histograms
Statistics
Key Properties
Legend
Raster Function Infos
Supported Operations:
Export Image
Identify
Measure
Compute Histograms
Compute Statistics Histograms
Get Samples
Compute Class Statistics
Query Boundary
Compute Pixel Location
Compute Angles
Validate
Project