{
 "currentVersion": 11.4,
 "serviceDescription": "tnw_ggm_r40_Clip",
 "name": "tnw_ggm_r40_Clip",
 "description": "",
 "extent": {
  "xmin": 675362,
  "ymin": 5987292,
  "xmax": 677467,
  "ymax": 5988867,
  "spatialReference": {
   "wkid": 25831,
   "latestWkid": 25831
  }
 },
 "initialExtent": {
  "xmin": 675362,
  "ymin": 5987292,
  "xmax": 677467,
  "ymax": 5988867,
  "spatialReference": {
   "wkid": 25831,
   "latestWkid": 25831
  }
 },
 "fullExtent": {
  "xmin": 675362,
  "ymin": 5987292,
  "xmax": 677467,
  "ymax": 5988867,
  "spatialReference": {
   "wkid": 25831,
   "latestWkid": 25831
  }
 },
 "sortableFields": "",
 "bandCount": 1,
 "pixelType": "F32",
 "minValues": [
  -97.81300354003906
 ],
 "maxValues": [
  -47.731998443603516
 ],
 "meanValues": [
  -57.538202506323785
 ],
 "stdvValues": [
  10.437148193639043
 ],
 "hasMultidimensions": false,
 "pixelSizeX": 5,
 "pixelSizeY": 5,
 "meanPixelSize": 5,
 "datasetFormat": "FGDBR",
 "uncompressedSize": 530460,
 "blockWidth": 128,
 "blockHeight": 128,
 "compressionType": "LZ77",
 "bandNames": [
  "Band_1"
 ],
 "allowCopy": true,
 "allowAnalysis": true,
 "itemAccess": false,
 "inspectionCapabilities": "",
 "minPixelSize": 0,
 "maxPixelSize": 0,
 "copyrightText": "",
 "serviceDataType": "esriImageServiceDataTypeGeneric",
 "serviceSourceType": "esriImageServiceSourceTypeDataset",
 "objectIdField": "",
 "fields": [],
 "capabilities": "Image,Metadata,Mensuration",
 "defaultMosaicMethod": "Center",
 "allowedMosaicMethods": "",
 "sortField": "",
 "sortValue": null,
 "sortAscending": true,
 "mosaicOperator": "First",
 "defaultCompressionQuality": 75,
 "defaultResamplingMethod": "Bilinear",
 "maxImageHeight": 4100,
 "maxImageWidth": 15000,
 "allowRasterFunction": true,
 "rasterFunctionInfos": [
  {
   "name": "None",
   "description": "",
   "help": ""
  }
 ],
 "rasterTypeInfos": [
  {
   "name": "Raster Dataset",
   "description": "Supports all ArcGIS Raster Datasets",
   "help": ""
  }
 ],
 "mensurationCapabilities": "Basic",
 "hasHistograms": true,
 "hasColormap": false,
 "hasRasterAttributeTable": false,
 "minScale": 0,
 "maxScale": 0,
 "exportTilesAllowed": false,
 "supportsStatistics": false,
 "supportsAdvancedQueries": false,
 "editFieldsInfo": null,
 "ownershipBasedAccessControlForRasters": null,
 "allowComputeTiePoints": false,
 "useStandardizedQueries": true,
 "advancedQueryCapabilities": {
  "useStandardizedQueries": true,
  "supportsStatistics": false,
  "supportsOrderBy": false,
  "supportsDistinct": false,
  "supportsPagination": false
 },
 "spatialReference": {
  "wkid": 25831,
  "latestWkid": 25831
 }
}
