View In:
ArcGIS JavaScript
ArcGIS Online Map Viewer
ArcGIS Earth
Service Description: TestRasterF32_tif
Name: TestRasterF32_tif
Description:
Single Fused Map Cache: false
Extent:
XMin: -0.5004215851602024
YMin: -0.5000789265977801
XMax: 1187.5004215851602
YMax: 6336.500078926599
Spatial Reference: 102100
(3857)
LatestVCSWkid(0)
Initial Extent:
XMin: -0.5004215851602024
YMin: -0.5000789265977801
XMax: 1187.5004215851602
YMax: 6336.500078926599
Spatial Reference: 102100
(3857)
LatestVCSWkid(0)
Full Extent:
XMin: -0.5004215851602024
YMin: -0.5000789265977801
XMax: 1187.5004215851602
YMax: 6336.500078926599
Spatial Reference: 102100
(3857)
LatestVCSWkid(0)
Pixel Size X: 1.0008431703204048
Pixel Size Y: 1.0001578531965272
Band Count: 1
Pixel Type: F32
RasterFunction Infos: {"rasterFunctionInfos": [{
"name": "None",
"description": "",
"help": ""
}]}
Mensuration Capabilities: Basic
Inspection Capabilities:
Has Histograms: true
Has Colormap: false
Has Multi Dimensions : false
Rendering Rule:
Min Scale: 0
Max Scale: 0
Copyright Text:
Service Data Type: esriImageServiceDataTypeGeneric
Min Values: -125
Max Values: 124
Mean Values: -0.18387413786134
Standard Deviation Values: 50.161506810813
Object ID Field:
Fields:
None
Default Mosaic Method: Center
Allowed Mosaic Methods:
SortField:
SortValue: null
Mosaic Operator: First
Default Compression Quality: 75
Default Resampling Method: Bilinear
Max Record Count: null
Max Image Height: 4100
Max Image Width: 15000
Max Download Image Count: null
Max Mosaic Image Count: null
Allow Raster Function: true
Allow Copy: true
Allow Analysis: true
Allow Compute TiePoints: false
Supports Statistics: false
Supports Advanced Queries: false
Use StandardizedQueries: true
Raster Type Infos:
Name: Raster Dataset
Description: Supports all ArcGIS Raster Datasets
Help:
Has Raster Attribute Table: false
Edit Fields Info: null
Ownership Based AccessControl For Rasters: null
Child Resources:
Info
Histograms
Statistics
Key Properties
Legend
Raster Function Infos
Supported Operations:
Export Image
Identify
Measure
Compute Histograms
Compute Statistics Histograms
Get Samples
Compute Class Statistics
Query Boundary
Compute Pixel Location
Compute Angles
Validate
Project