{
 "currentVersion": 11.4,
 "serviceDescription": "TestRasterF32_tif",
 "name": "TestRasterF32_tif",
 "description": "",
 "extent": {
  "xmin": -0.5004215851602024,
  "ymin": -0.5000789265977801,
  "xmax": 1187.5004215851602,
  "ymax": 6336.500078926599,
  "spatialReference": {
   "wkid": 102100,
   "latestWkid": 3857
  }
 },
 "initialExtent": {
  "xmin": -0.5004215851602024,
  "ymin": -0.5000789265977801,
  "xmax": 1187.5004215851602,
  "ymax": 6336.500078926599,
  "spatialReference": {
   "wkid": 102100,
   "latestWkid": 3857
  }
 },
 "fullExtent": {
  "xmin": -0.5004215851602024,
  "ymin": -0.5000789265977801,
  "xmax": 1187.5004215851602,
  "ymax": 6336.500078926599,
  "spatialReference": {
   "wkid": 102100,
   "latestWkid": 3857
  }
 },
 "sortableFields": "",
 "bandCount": 1,
 "pixelType": "F32",
 "minValues": [
  -125
 ],
 "maxValues": [
  124
 ],
 "meanValues": [
  -0.18387413786134
 ],
 "stdvValues": [
  50.161506810813
 ],
 "hasMultidimensions": false,
 "pixelSizeX": 1.0008431703204048,
 "pixelSizeY": 1.0001578531965272,
 "meanPixelSize": 1.000500511758466,
 "datasetFormat": "TIFF",
 "uncompressedSize": 30083328,
 "blockWidth": 1187,
 "blockHeight": 1,
 "compressionType": "None",
 "bandNames": [
  "Band_1"
 ],
 "allowCopy": true,
 "allowAnalysis": true,
 "itemAccess": false,
 "inspectionCapabilities": "",
 "noDataValue": -125000,
 "noDataValues": [
  -125000
 ],
 "minPixelSize": 0,
 "maxPixelSize": 0,
 "copyrightText": "",
 "serviceDataType": "esriImageServiceDataTypeGeneric",
 "serviceSourceType": "esriImageServiceSourceTypeDataset",
 "objectIdField": "",
 "fields": [],
 "capabilities": "Image,Metadata,Mensuration",
 "defaultMosaicMethod": "Center",
 "allowedMosaicMethods": "",
 "sortField": "",
 "sortValue": null,
 "sortAscending": true,
 "mosaicOperator": "First",
 "defaultCompressionQuality": 75,
 "defaultResamplingMethod": "Bilinear",
 "maxImageHeight": 4100,
 "maxImageWidth": 15000,
 "allowRasterFunction": true,
 "rasterFunctionInfos": [
  {
   "name": "None",
   "description": "",
   "help": ""
  }
 ],
 "rasterTypeInfos": [
  {
   "name": "Raster Dataset",
   "description": "Supports all ArcGIS Raster Datasets",
   "help": ""
  }
 ],
 "mensurationCapabilities": "Basic",
 "hasHistograms": true,
 "hasColormap": false,
 "hasRasterAttributeTable": false,
 "minScale": 0,
 "maxScale": 0,
 "exportTilesAllowed": false,
 "supportsStatistics": false,
 "supportsAdvancedQueries": false,
 "editFieldsInfo": null,
 "ownershipBasedAccessControlForRasters": null,
 "allowComputeTiePoints": false,
 "useStandardizedQueries": true,
 "advancedQueryCapabilities": {
  "useStandardizedQueries": true,
  "supportsStatistics": false,
  "supportsOrderBy": false,
  "supportsDistinct": false,
  "supportsPagination": false
 },
 "spatialReference": {
  "wkid": 102100,
  "latestWkid": 3857
 }
}
