View In:
ArcGIS JavaScript
ArcGIS Online Map Viewer
ArcGIS Earth
Service Description: NPD19_Z01_AD_009_Bathy
Name: NPD19_Z01_AD_009_Bathy
Description:
Single Fused Map Cache: false
Extent:
XMin: 631209.75
YMin: 8154209.75
XMax: 636660.25
YMax: 8158770.25
Spatial Reference: 32631
(32631)
LatestVCSWkid(0)
Initial Extent:
XMin: 631209.75
YMin: 8154209.75
XMax: 636660.25
YMax: 8158770.25
Spatial Reference: 32631
(32631)
LatestVCSWkid(0)
Full Extent:
XMin: 631209.75
YMin: 8154209.75
XMax: 636660.25
YMax: 8158770.25
Spatial Reference: 32631
(32631)
LatestVCSWkid(0)
Pixel Size X: 0.5
Pixel Size Y: 0.5
Band Count: 1
Pixel Type: F32
RasterFunction Infos: {"rasterFunctionInfos": [{
"name": "None",
"description": "",
"help": ""
}]}
Mensuration Capabilities: Basic
Inspection Capabilities:
Has Histograms: true
Has Colormap: false
Has Multi Dimensions : false
Rendering Rule:
Min Scale: 0
Max Scale: 0
Copyright Text:
Service Data Type: esriImageServiceDataTypeGeneric
Min Values: -3213.7348632812
Max Values: -2078.3874511719
Mean Values: -2795.0939655725
Standard Deviation Values: 300.61516754828
Object ID Field:
Fields:
None
Default Mosaic Method: Center
Allowed Mosaic Methods:
SortField:
SortValue: null
Mosaic Operator: First
Default Compression Quality: 75
Default Resampling Method: Bilinear
Max Record Count: null
Max Image Height: 4100
Max Image Width: 15000
Max Download Image Count: null
Max Mosaic Image Count: null
Allow Raster Function: true
Allow Copy: true
Allow Analysis: true
Allow Compute TiePoints: false
Supports Statistics: false
Supports Advanced Queries: false
Use StandardizedQueries: true
Raster Type Infos:
Name: Raster Dataset
Description: Supports all ArcGIS Raster Datasets
Help:
Has Raster Attribute Table: false
Edit Fields Info: null
Ownership Based AccessControl For Rasters: null
Child Resources:
Info
Histograms
Statistics
Key Properties
Legend
Raster Function Infos
Supported Operations:
Export Image
Identify
Measure
Compute Histograms
Compute Statistics Histograms
Get Samples
Compute Class Statistics
Query Boundary
Compute Pixel Location
Compute Angles
Validate
Project