{
 "currentVersion": 11.4,
 "serviceDescription": "NPD19_Z01_AD_009_Bathy",
 "name": "NPD19_Z01_AD_009_Bathy",
 "description": "",
 "extent": {
  "xmin": 631209.75,
  "ymin": 8154209.75,
  "xmax": 636660.25,
  "ymax": 8158770.25,
  "spatialReference": {
   "wkid": 32631,
   "latestWkid": 32631
  }
 },
 "initialExtent": {
  "xmin": 631209.75,
  "ymin": 8154209.75,
  "xmax": 636660.25,
  "ymax": 8158770.25,
  "spatialReference": {
   "wkid": 32631,
   "latestWkid": 32631
  }
 },
 "fullExtent": {
  "xmin": 631209.75,
  "ymin": 8154209.75,
  "xmax": 636660.25,
  "ymax": 8158770.25,
  "spatialReference": {
   "wkid": 32631,
   "latestWkid": 32631
  }
 },
 "sortableFields": "",
 "bandCount": 1,
 "pixelType": "F32",
 "minValues": [
  -3213.7348632812
 ],
 "maxValues": [
  -2078.3874511719
 ],
 "meanValues": [
  -2795.0939655725
 ],
 "stdvValues": [
  300.61516754828
 ],
 "hasMultidimensions": false,
 "pixelSizeX": 0.5,
 "pixelSizeY": 0.5,
 "meanPixelSize": 0.5,
 "datasetFormat": "TIFF",
 "uncompressedSize": 397712084,
 "blockWidth": 10901,
 "blockHeight": 1,
 "compressionType": "None",
 "bandNames": [
  "Band_1"
 ],
 "allowCopy": true,
 "allowAnalysis": true,
 "itemAccess": false,
 "inspectionCapabilities": "",
 "noDataValue": -3213730,
 "noDataValues": [
  -3213730
 ],
 "minPixelSize": 0,
 "maxPixelSize": 0,
 "copyrightText": "",
 "serviceDataType": "esriImageServiceDataTypeGeneric",
 "serviceSourceType": "esriImageServiceSourceTypeDataset",
 "objectIdField": "",
 "fields": [],
 "capabilities": "Image,Metadata,Mensuration",
 "defaultMosaicMethod": "Center",
 "allowedMosaicMethods": "",
 "sortField": "",
 "sortValue": null,
 "sortAscending": true,
 "mosaicOperator": "First",
 "defaultCompressionQuality": 75,
 "defaultResamplingMethod": "Bilinear",
 "maxImageHeight": 4100,
 "maxImageWidth": 15000,
 "allowRasterFunction": true,
 "rasterFunctionInfos": [
  {
   "name": "None",
   "description": "",
   "help": ""
  }
 ],
 "rasterTypeInfos": [
  {
   "name": "Raster Dataset",
   "description": "Supports all ArcGIS Raster Datasets",
   "help": ""
  }
 ],
 "mensurationCapabilities": "Basic",
 "hasHistograms": true,
 "hasColormap": false,
 "hasRasterAttributeTable": false,
 "minScale": 0,
 "maxScale": 0,
 "exportTilesAllowed": false,
 "supportsStatistics": false,
 "supportsAdvancedQueries": false,
 "editFieldsInfo": null,
 "ownershipBasedAccessControlForRasters": null,
 "allowComputeTiePoints": false,
 "useStandardizedQueries": true,
 "advancedQueryCapabilities": {
  "useStandardizedQueries": true,
  "supportsStatistics": false,
  "supportsOrderBy": false,
  "supportsDistinct": false,
  "supportsPagination": false
 },
 "spatialReference": {
  "wkid": 32631,
  "latestWkid": 32631
 }
}
