View In:
ArcGIS JavaScript
ArcGIS Online Map Viewer
ArcGIS Earth
Service Description: LSS_1_B
Name: LSS_1_B
Description:
Single Fused Map Cache: false
Extent:
XMin: 220546.06340874327
YMin: 558663.7172445989
XMax: 270096.06340874324
YMax: 615963.7172445989
Spatial Reference: 28992
(28992)
LatestVCSWkid(0)
Initial Extent:
XMin: 220546.06340874327
YMin: 558663.7172445989
XMax: 270096.06340874324
YMax: 615963.7172445989
Spatial Reference: 28992
(28992)
LatestVCSWkid(0)
Full Extent:
XMin: 220546.06340874327
YMin: 558663.7172445989
XMax: 270096.06340874324
YMax: 615963.7172445989
Spatial Reference: 28992
(28992)
LatestVCSWkid(0)
Pixel Size X: 49.99999999999997
Pixel Size Y: 50.0
Band Count: 1
Pixel Type: F32
RasterFunction Infos: {"rasterFunctionInfos": [{
"name": "None",
"description": "",
"help": ""
}]}
Mensuration Capabilities: Basic
Inspection Capabilities:
Has Histograms: true
Has Colormap: false
Has Multi Dimensions : false
Rendering Rule:
Min Scale: 0
Max Scale: 0
Copyright Text:
Service Data Type: esriImageServiceDataTypeGeneric
Min Values: -4270.0590820312
Max Values: -2656.5363769531
Mean Values: -3287.179068438
Standard Deviation Values: 280.63174410683
Object ID Field:
Fields:
None
Default Mosaic Method: Center
Allowed Mosaic Methods:
SortField:
SortValue: null
Mosaic Operator: First
Default Compression Quality: 75
Default Resampling Method: Bilinear
Max Record Count: null
Max Image Height: 4100
Max Image Width: 15000
Max Download Image Count: null
Max Mosaic Image Count: null
Allow Raster Function: true
Allow Copy: true
Allow Analysis: true
Allow Compute TiePoints: false
Supports Statistics: false
Supports Advanced Queries: false
Use StandardizedQueries: true
Raster Type Infos:
Name: Raster Dataset
Description: Supports all ArcGIS Raster Datasets
Help:
Has Raster Attribute Table: false
Edit Fields Info: null
Ownership Based AccessControl For Rasters: null
Child Resources:
Info
Histograms
Statistics
Key Properties
Legend
Raster Function Infos
Supported Operations:
Export Image
Identify
Measure
Compute Histograms
Compute Statistics Histograms
Get Samples
Compute Class Statistics
Query Boundary
Compute Pixel Location
Compute Angles
Validate
Project