{
 "currentVersion": 11.4,
 "serviceDescription": "LSS_1_B",
 "name": "LSS_1_B",
 "description": "",
 "extent": {
  "xmin": 220546.06340874327,
  "ymin": 558663.7172445989,
  "xmax": 270096.06340874324,
  "ymax": 615963.7172445989,
  "spatialReference": {
   "wkid": 28992,
   "latestWkid": 28992
  }
 },
 "initialExtent": {
  "xmin": 220546.06340874327,
  "ymin": 558663.7172445989,
  "xmax": 270096.06340874324,
  "ymax": 615963.7172445989,
  "spatialReference": {
   "wkid": 28992,
   "latestWkid": 28992
  }
 },
 "fullExtent": {
  "xmin": 220546.06340874327,
  "ymin": 558663.7172445989,
  "xmax": 270096.06340874324,
  "ymax": 615963.7172445989,
  "spatialReference": {
   "wkid": 28992,
   "latestWkid": 28992
  }
 },
 "sortableFields": "",
 "bandCount": 1,
 "pixelType": "F32",
 "minValues": [
  -4270.0590820312
 ],
 "maxValues": [
  -2656.5363769531
 ],
 "meanValues": [
  -3287.179068438
 ],
 "stdvValues": [
  280.63174410683
 ],
 "hasMultidimensions": false,
 "pixelSizeX": 49.99999999999997,
 "pixelSizeY": 50,
 "meanPixelSize": 49.999999999999986,
 "datasetFormat": "TIFF",
 "uncompressedSize": 4542744,
 "blockWidth": 991,
 "blockHeight": 2,
 "compressionType": "None",
 "bandNames": [
  "Band_1"
 ],
 "allowCopy": true,
 "allowAnalysis": true,
 "itemAccess": false,
 "inspectionCapabilities": "",
 "noDataValue": 3.4028234663852886E38,
 "noDataValues": [
  3.4028234663852886E38
 ],
 "minPixelSize": 0,
 "maxPixelSize": 0,
 "copyrightText": "",
 "serviceDataType": "esriImageServiceDataTypeGeneric",
 "serviceSourceType": "esriImageServiceSourceTypeDataset",
 "objectIdField": "",
 "fields": [],
 "capabilities": "Image,Metadata,Mensuration",
 "defaultMosaicMethod": "Center",
 "allowedMosaicMethods": "",
 "sortField": "",
 "sortValue": null,
 "sortAscending": true,
 "mosaicOperator": "First",
 "defaultCompressionQuality": 75,
 "defaultResamplingMethod": "Bilinear",
 "maxImageHeight": 4100,
 "maxImageWidth": 15000,
 "allowRasterFunction": true,
 "rasterFunctionInfos": [
  {
   "name": "None",
   "description": "",
   "help": ""
  }
 ],
 "rasterTypeInfos": [
  {
   "name": "Raster Dataset",
   "description": "Supports all ArcGIS Raster Datasets",
   "help": ""
  }
 ],
 "mensurationCapabilities": "Basic",
 "hasHistograms": true,
 "hasColormap": false,
 "hasRasterAttributeTable": false,
 "minScale": 0,
 "maxScale": 0,
 "exportTilesAllowed": false,
 "supportsStatistics": false,
 "supportsAdvancedQueries": false,
 "editFieldsInfo": null,
 "ownershipBasedAccessControlForRasters": null,
 "allowComputeTiePoints": false,
 "useStandardizedQueries": true,
 "advancedQueryCapabilities": {
  "useStandardizedQueries": true,
  "supportsStatistics": false,
  "supportsOrderBy": false,
  "supportsDistinct": false,
  "supportsPagination": false
 },
 "spatialReference": {
  "wkid": 28992,
  "latestWkid": 28992
 }
}
