View In:
ArcGIS JavaScript
ArcGIS Online Map Viewer
ArcGIS Earth
Service Description: TestRasterCheckPatternF32_tif
Name: TestRasterCheckPatternF32_tif
Description:
Single Fused Map Cache: false
Extent:
XMin: -4.010135135135135
YMin: -4.0
XMax: 1191.010135135135
YMax: 6340.0
Spatial Reference: 102100
(3857)
LatestVCSWkid(0)
Initial Extent:
XMin: -4.010135135135135
YMin: -4.0
XMax: 1191.010135135135
YMax: 6340.0
Spatial Reference: 102100
(3857)
LatestVCSWkid(0)
Full Extent:
XMin: -4.010135135135135
YMin: -4.0
XMax: 1191.010135135135
YMax: 6340.0
Spatial Reference: 102100
(3857)
LatestVCSWkid(0)
Pixel Size X: 8.02027027027027
Pixel Size Y: 8.0
Band Count: 1
Pixel Type: F32
RasterFunction Infos: {"rasterFunctionInfos": [{
"name": "None",
"description": "",
"help": ""
}]}
Mensuration Capabilities: Basic
Inspection Capabilities:
Has Histograms: true
Has Colormap: false
Has Multi Dimensions : false
Rendering Rule:
Min Scale: 0
Max Scale: 0
Copyright Text:
Service Data Type: esriImageServiceDataTypeGeneric
Min Values: -126
Max Values: 124
Mean Values: 3.5705205785523
Standard Deviation Values: 55.751748735156
Object ID Field:
Fields:
None
Default Mosaic Method: Center
Allowed Mosaic Methods:
SortField:
SortValue: null
Mosaic Operator: First
Default Compression Quality: 75
Default Resampling Method: Bilinear
Max Record Count: null
Max Image Height: 4100
Max Image Width: 15000
Max Download Image Count: null
Max Mosaic Image Count: null
Allow Raster Function: true
Allow Copy: true
Allow Analysis: true
Allow Compute TiePoints: false
Supports Statistics: false
Supports Advanced Queries: false
Use StandardizedQueries: true
Raster Type Infos:
Name: Raster Dataset
Description: Supports all ArcGIS Raster Datasets
Help:
Has Raster Attribute Table: false
Edit Fields Info: null
Ownership Based AccessControl For Rasters: null
Child Resources:
Info
Histograms
Statistics
Key Properties
Legend
Raster Function Infos
Supported Operations:
Export Image
Identify
Measure
Compute Histograms
Compute Statistics Histograms
Get Samples
Compute Class Statistics
Query Boundary
Compute Pixel Location
Compute Angles
Validate
Project