View In:
ArcGIS JavaScript
ArcGIS Online Map Viewer
ArcGIS Earth
Service Description: SN2/H30_Time
Name: SN2/H30_Time
Description:
Single Fused Map Cache: false
Extent:
XMin: 612668.0
YMin: 6279900.0
XMax: 639508.0
YMax: 6322116.0
Spatial Reference: 32631
(32631)
LatestVCSWkid(0)
Initial Extent:
XMin: 612668.0
YMin: 6279900.0
XMax: 639508.0
YMax: 6322116.0
Spatial Reference: 32631
(32631)
LatestVCSWkid(0)
Full Extent:
XMin: 612668.0
YMin: 6279900.0
XMax: 639508.0
YMax: 6322116.0
Spatial Reference: 32631
(32631)
LatestVCSWkid(0)
Pixel Size X: 8.0
Pixel Size Y: 8.0
Band Count: 1
Pixel Type: F32
RasterFunction Infos: {"rasterFunctionInfos": [{
"name": "None",
"description": "",
"help": ""
}]}
Mensuration Capabilities: Basic
Inspection Capabilities:
Has Histograms: true
Has Colormap: false
Has Multi Dimensions : false
Rendering Rule:
Min Scale: 0
Max Scale: 0
Copyright Text:
Service Data Type: esriImageServiceDataTypeGeneric
Min Values: -144.39999389648438
Max Values: -79.69999694824219
Mean Values: -99.6546048709423
Standard Deviation Values: 6.922055553882076
Object ID Field:
Fields:
None
Default Mosaic Method: Center
Allowed Mosaic Methods:
SortField:
SortValue: null
Mosaic Operator: First
Default Compression Quality: 75
Default Resampling Method: Bilinear
Max Record Count: null
Max Image Height: 4100
Max Image Width: 15000
Max Download Image Count: null
Max Mosaic Image Count: null
Allow Raster Function: true
Allow Copy: true
Allow Analysis: true
Allow Compute TiePoints: false
Supports Statistics: false
Supports Advanced Queries: false
Use StandardizedQueries: true
Raster Type Infos:
Name: Raster Dataset
Description: Supports all ArcGIS Raster Datasets
Help:
Has Raster Attribute Table: false
Edit Fields Info: null
Ownership Based AccessControl For Rasters: null
Child Resources:
Info
Histograms
Statistics
Key Properties
Legend
Raster Function Infos
Supported Operations:
Export Image
Identify
Measure
Compute Histograms
Compute Statistics Histograms
Get Samples
Compute Class Statistics
Query Boundary
Compute Pixel Location
Compute Angles
Validate
Project