View In:
ArcGIS JavaScript
ArcGIS Online Map Viewer
ArcGIS Earth
Service Description: SN2/Bathy_Time_MS
Name: SN2/Bathy_Time_MS
Description:
Single Fused Map Cache: false
Extent:
XMin: 605567.25
YMin: 6277247.25
XMax: 654719.25
YMax: 6326399.25
Spatial Reference: 32631
(32631)
LatestVCSWkid(0)
Initial Extent:
XMin: 605567.25
YMin: 6277247.25
XMax: 654719.25
YMax: 6326399.25
Spatial Reference: 32631
(32631)
LatestVCSWkid(0)
Full Extent:
XMin: 605567.25
YMin: 6277247.25
XMax: 654719.25
YMax: 6326399.25
Spatial Reference: 32631
(32631)
LatestVCSWkid(0)
Pixel Size X: 1.5
Pixel Size Y: 1.5
Band Count: 1
Pixel Type: F64
RasterFunction Infos: {"rasterFunctionInfos": [{
"name": "None",
"description": "",
"help": ""
}]}
Mensuration Capabilities: Basic
Inspection Capabilities:
Has Histograms: true
Has Colormap: false
Has Multi Dimensions : false
Rendering Rule:
Min Scale: 0
Max Scale: 0
Copyright Text:
Service Data Type: esriImageServiceDataTypeGeneric
Min Values: -93.82162351866026
Max Values: -73.48243094779349
Mean Values: -83.85759353828891
Standard Deviation Values: 2.478853184626761
Object ID Field:
Fields:
None
Default Mosaic Method: Center
Allowed Mosaic Methods:
SortField:
SortValue: null
Mosaic Operator: First
Default Compression Quality: 75
Default Resampling Method: Bilinear
Max Record Count: null
Max Image Height: 4100
Max Image Width: 15000
Max Download Image Count: null
Max Mosaic Image Count: null
Allow Raster Function: true
Allow Copy: true
Allow Analysis: true
Allow Compute TiePoints: false
Supports Statistics: false
Supports Advanced Queries: false
Use StandardizedQueries: true
Raster Type Infos:
Name: Raster Dataset
Description: Supports all ArcGIS Raster Datasets
Help:
Has Raster Attribute Table: false
Edit Fields Info: null
Ownership Based AccessControl For Rasters: null
Child Resources:
Info
Histograms
Statistics
Key Properties
Legend
Raster Function Infos
Supported Operations:
Export Image
Identify
Measure
Compute Histograms
Compute Statistics Histograms
Get Samples
Compute Class Statistics
Query Boundary
Compute Pixel Location
Compute Angles
Validate
Project