View In:
ArcGIS JavaScript
ArcGIS Online Map Viewer
ArcGIS Earth
Service Description: PEZ/Seabed__interpretation_Webmercator
Name: PEZ/Seabed__interpretation_Webmercator
Description:
Single Fused Map Cache: false
Extent:
XMin: 254908.81673063335
YMin: 6685301.724215764
XMax: 291833.8167306334
YMax: 6741721.724215764
Spatial Reference: 102100
(3857)
LatestVCSWkid(0)
Initial Extent:
XMin: 254908.81673063335
YMin: 6685301.724215764
XMax: 291833.8167306334
YMax: 6741721.724215764
Spatial Reference: 102100
(3857)
LatestVCSWkid(0)
Full Extent:
XMin: 254908.81673063335
YMin: 6685301.724215764
XMax: 291833.8167306334
YMax: 6741721.724215764
Spatial Reference: 102100
(3857)
LatestVCSWkid(0)
Pixel Size X: 5.0000000000000036
Pixel Size Y: 5.0
Band Count: 1
Pixel Type: F32
RasterFunction Infos: {"rasterFunctionInfos": [{
"name": "None",
"description": "",
"help": ""
}]}
Mensuration Capabilities: Basic
Inspection Capabilities:
Has Histograms: true
Has Colormap: false
Has Multi Dimensions : false
Rendering Rule:
Min Scale: 0
Max Scale: 0
Copyright Text:
Service Data Type: esriImageServiceDataTypeGeneric
Min Values: -55.68637466430664
Max Values: -7.289745330810547
Mean Values: -38.96172556540258
Standard Deviation Values: 8.914382906085155
Object ID Field:
Fields:
None
Default Mosaic Method: Center
Allowed Mosaic Methods:
SortField:
SortValue: null
Mosaic Operator: First
Default Compression Quality: 75
Default Resampling Method: Bilinear
Max Record Count: null
Max Image Height: 4100
Max Image Width: 15000
Max Download Image Count: null
Max Mosaic Image Count: null
Allow Raster Function: true
Allow Copy: true
Allow Analysis: true
Allow Compute TiePoints: false
Supports Statistics: false
Supports Advanced Queries: false
Use StandardizedQueries: true
Raster Type Infos:
Name: Raster Dataset
Description: Supports all ArcGIS Raster Datasets
Help:
Has Raster Attribute Table: false
Edit Fields Info: null
Ownership Based AccessControl For Rasters: null
Child Resources:
Info
Histograms
Statistics
Key Properties
Legend
Raster Function Infos
Supported Operations:
Export Image
Identify
Measure
Compute Histograms
Compute Statistics Histograms
Get Samples
Compute Class Statistics
Query Boundary
Compute Pixel Location
Compute Angles
Validate
Project