View In:
ArcGIS JavaScript
ArcGIS Online Map Viewer
ArcGIS Earth
Service Description: PEZ/PEZ_2022_Top_Gentbrugge_webmercator
Name: PEZ/PEZ_2022_Top_Gentbrugge_webmercator
Description:
Single Fused Map Cache: false
Extent:
XMin: 286727.188872445
YMin: 6734047.386816605
XMax: 291577.188872445
YMax: 6741697.386816605
Spatial Reference: 102100
(3857)
LatestVCSWkid(0)
Initial Extent:
XMin: 286727.188872445
YMin: 6734047.386816605
XMax: 291577.188872445
YMax: 6741697.386816605
Spatial Reference: 102100
(3857)
LatestVCSWkid(0)
Full Extent:
XMin: 286727.188872445
YMin: 6734047.386816605
XMax: 291577.188872445
YMax: 6741697.386816605
Spatial Reference: 102100
(3857)
LatestVCSWkid(0)
Pixel Size X: 25.0
Pixel Size Y: 25.0
Band Count: 1
Pixel Type: F32
RasterFunction Infos: {"rasterFunctionInfos": [{
"name": "None",
"description": "",
"help": ""
}]}
Mensuration Capabilities: Basic
Inspection Capabilities:
Has Histograms: true
Has Colormap: false
Has Multi Dimensions : false
Rendering Rule:
Min Scale: 0
Max Scale: 0
Copyright Text:
Service Data Type: esriImageServiceDataTypeGeneric
Min Values: -64.91705322265625
Max Values: -50.073917388916016
Mean Values: -55.00904235769238
Standard Deviation Values: 3.0700592861801903
Object ID Field:
Fields:
None
Default Mosaic Method: Center
Allowed Mosaic Methods:
SortField:
SortValue: null
Mosaic Operator: First
Default Compression Quality: 75
Default Resampling Method: Bilinear
Max Record Count: null
Max Image Height: 4100
Max Image Width: 15000
Max Download Image Count: null
Max Mosaic Image Count: null
Allow Raster Function: true
Allow Copy: true
Allow Analysis: true
Allow Compute TiePoints: false
Supports Statistics: false
Supports Advanced Queries: false
Use StandardizedQueries: true
Raster Type Infos:
Name: Raster Dataset
Description: Supports all ArcGIS Raster Datasets
Help:
Has Raster Attribute Table: false
Edit Fields Info: null
Ownership Based AccessControl For Rasters: null
Child Resources:
Info
Histograms
Statistics
Key Properties
Legend
Raster Function Infos
Supported Operations:
Export Image
Identify
Measure
Compute Histograms
Compute Statistics Histograms
Get Samples
Compute Class Statistics
Query Boundary
Compute Pixel Location
Compute Angles
Validate
Project