View In:
ArcGIS JavaScript
ArcGIS Online Map Viewer
ArcGIS Earth
Service Description: PEZ/PEZ_2022_H100__webmercator
Name: PEZ/PEZ_2022_H100__webmercator
Description:
Single Fused Map Cache: false
Extent:
XMin: 254892.5626007089
YMin: 6685287.949149425
XMax: 291867.5626007089
YMax: 6741737.949149425
Spatial Reference: 102100
(3857)
LatestVCSWkid(0)
Initial Extent:
XMin: 254892.5626007089
YMin: 6685287.949149425
XMax: 291867.5626007089
YMax: 6741737.949149425
Spatial Reference: 102100
(3857)
LatestVCSWkid(0)
Full Extent:
XMin: 254892.5626007089
YMin: 6685287.949149425
XMax: 291867.5626007089
YMax: 6741737.949149425
Spatial Reference: 102100
(3857)
LatestVCSWkid(0)
Pixel Size X: 25.00000000000002
Pixel Size Y: 25.0
Band Count: 1
Pixel Type: F32
RasterFunction Infos: {"rasterFunctionInfos": [{
"name": "None",
"description": "",
"help": ""
}]}
Mensuration Capabilities: Basic
Inspection Capabilities:
Has Histograms: true
Has Colormap: false
Has Multi Dimensions : false
Rendering Rule:
Min Scale: 0
Max Scale: 0
Copyright Text:
Service Data Type: esriImageServiceDataTypeGeneric
Min Values: -64.96126556396484
Max Values: -35.977535247802734
Mean Values: -47.597873408799245
Standard Deviation Values: 4.195574300753265
Object ID Field:
Fields:
None
Default Mosaic Method: Center
Allowed Mosaic Methods:
SortField:
SortValue: null
Mosaic Operator: First
Default Compression Quality: 75
Default Resampling Method: Bilinear
Max Record Count: null
Max Image Height: 4100
Max Image Width: 15000
Max Download Image Count: null
Max Mosaic Image Count: null
Allow Raster Function: true
Allow Copy: true
Allow Analysis: true
Allow Compute TiePoints: false
Supports Statistics: false
Supports Advanced Queries: false
Use StandardizedQueries: true
Raster Type Infos:
Name: Raster Dataset
Description: Supports all ArcGIS Raster Datasets
Help:
Has Raster Attribute Table: false
Edit Fields Info: null
Ownership Based AccessControl For Rasters: null
Child Resources:
Info
Histograms
Statistics
Key Properties
Legend
Raster Function Infos
Supported Operations:
Export Image
Identify
Measure
Compute Histograms
Compute Statistics Histograms
Get Samples
Compute Class Statistics
Query Boundary
Compute Pixel Location
Compute Angles
Validate
Project