View In:
ArcGIS JavaScript
ArcGIS Online Map Viewer
ArcGIS Earth
Service Description: MMT_270_FR_RVO_TNW_EM2040D_DTU15_LAT_DTM_1m
Name: MMT_270_FR_RVO_TNW_EM2040D_DTU15_LAT_DTM_1m
Description:
Single Fused Map Cache: false
Extent:
XMin: 660205.5
YMin: 5986410.5
XMax: 688518.5
YMax: 5993779.5
Spatial Reference: 25831
(25831)
LatestVCSWkid(0)
Initial Extent:
XMin: 660205.5
YMin: 5986410.5
XMax: 688518.5
YMax: 5993779.5
Spatial Reference: 25831
(25831)
LatestVCSWkid(0)
Full Extent:
XMin: 660205.5
YMin: 5986410.5
XMax: 688518.5
YMax: 5993779.5
Spatial Reference: 25831
(25831)
LatestVCSWkid(0)
Pixel Size X: 1.0
Pixel Size Y: 1.0
Band Count: 1
Pixel Type: F32
RasterFunction Infos: {"rasterFunctionInfos": [{
"name": "None",
"description": "",
"help": ""
}]}
Mensuration Capabilities: Basic
Inspection Capabilities:
Has Histograms: true
Has Colormap: false
Has Multi Dimensions : false
Rendering Rule:
Min Scale: 0
Max Scale: 0
Copyright Text:
Service Data Type: esriImageServiceDataTypeGeneric
Min Values: -38.13999938964844
Max Values: -32.81999969482422
Mean Values: -36.06161946087107
Standard Deviation Values: 1.072892926767011
Object ID Field:
Fields:
None
Default Mosaic Method: Center
Allowed Mosaic Methods:
SortField:
SortValue: null
Mosaic Operator: First
Default Compression Quality: 75
Default Resampling Method: Bilinear
Max Record Count: null
Max Image Height: 4100
Max Image Width: 15000
Max Download Image Count: null
Max Mosaic Image Count: null
Allow Raster Function: true
Allow Copy: true
Allow Analysis: true
Allow Compute TiePoints: false
Supports Statistics: false
Supports Advanced Queries: false
Use StandardizedQueries: true
Raster Type Infos:
Name: Raster Dataset
Description: Supports all ArcGIS Raster Datasets
Help:
Has Raster Attribute Table: false
Edit Fields Info: null
Ownership Based AccessControl For Rasters: null
Child Resources:
Info
Histograms
Statistics
Key Properties
Legend
Raster Function Infos
Supported Operations:
Export Image
Identify
Measure
Compute Histograms
Compute Statistics Histograms
Get Samples
Compute Class Statistics
Query Boundary
Compute Pixel Location
Compute Angles
Validate
Project