View In:
ArcGIS JavaScript
ArcGIS Online Map Viewer
ArcGIS Earth
Service Description: Gullfaks/Gullfaks_T_Tarbert__Depth_tif
Name: Gullfaks/Gullfaks_T_Tarbert__Depth_tif
Description:
Single Fused Map Cache: false
Extent:
XMin: 450400.0
YMin: 6780100.0
XMax: 458950.0
YMax: 6789750.0
Spatial Reference: 23031
(23031)
LatestVCSWkid(0)
Initial Extent:
XMin: 450400.0
YMin: 6780100.0
XMax: 458950.0
YMax: 6789750.0
Spatial Reference: 23031
(23031)
LatestVCSWkid(0)
Full Extent:
XMin: 450400.0
YMin: 6780100.0
XMax: 458950.0
YMax: 6789750.0
Spatial Reference: 23031
(23031)
LatestVCSWkid(0)
Pixel Size X: 50.0
Pixel Size Y: 50.0
Band Count: 1
Pixel Type: F32
RasterFunction Infos: {"rasterFunctionInfos": [{
"name": "None",
"description": "",
"help": ""
}]}
Mensuration Capabilities: Basic
Inspection Capabilities:
Has Histograms: true
Has Colormap: false
Has Multi Dimensions : false
Rendering Rule:
Min Scale: 0
Max Scale: 0
Copyright Text:
Service Data Type: esriImageServiceDataTypeGeneric
Min Values: -2340.7094726562
Max Values: -1719.1160888672
Mean Values: -1979.0846272905
Standard Deviation Values: 114.68007408557
Object ID Field:
Fields:
None
Default Mosaic Method: Center
Allowed Mosaic Methods:
SortField:
SortValue: null
Mosaic Operator: First
Default Compression Quality: 75
Default Resampling Method: Bilinear
Max Record Count: null
Max Image Height: 4100
Max Image Width: 15000
Max Download Image Count: null
Max Mosaic Image Count: null
Allow Raster Function: true
Allow Copy: true
Allow Analysis: true
Allow Compute TiePoints: false
Supports Statistics: false
Supports Advanced Queries: false
Use StandardizedQueries: true
Raster Type Infos:
Name: Raster Dataset
Description: Supports all ArcGIS Raster Datasets
Help:
Has Raster Attribute Table: false
Edit Fields Info: null
Ownership Based AccessControl For Rasters: null
Child Resources:
Info
Histograms
Statistics
Key Properties
Legend
Raster Function Infos
Supported Operations:
Export Image
Identify
Measure
Compute Histograms
Compute Statistics Histograms
Get Samples
Compute Class Statistics
Query Boundary
Compute Pixel Location
Compute Angles
Validate
Project