View In:
ArcGIS JavaScript
ArcGIS Online Map Viewer
ArcGIS Earth
Service Description: Gronningen/RO_top1
Name: Gronningen/RO_top1
Description:
Single Fused Map Cache: false
Extent:
XMin: 709026.6345451901
YMin: 6983447.873427479
XMax: 792826.6345451901
YMax: 7080747.873427479
Spatial Reference: 102100
(3857)
LatestVCSWkid(0)
Initial Extent:
XMin: 709026.6345451901
YMin: 6983447.873427479
XMax: 792826.6345451901
YMax: 7080747.873427479
Spatial Reference: 102100
(3857)
LatestVCSWkid(0)
Full Extent:
XMin: 709026.6345451901
YMin: 6983447.873427479
XMax: 792826.6345451901
YMax: 7080747.873427479
Spatial Reference: 102100
(3857)
LatestVCSWkid(0)
Pixel Size X: 50.0
Pixel Size Y: 50.0
Band Count: 1
Pixel Type: F32
RasterFunction Infos: {"rasterFunctionInfos": [{
"name": "None",
"description": "",
"help": ""
}]}
Mensuration Capabilities: Basic
Inspection Capabilities:
Has Histograms: true
Has Colormap: false
Has Multi Dimensions : false
Rendering Rule:
Min Scale: 0
Max Scale: 0
Copyright Text:
Service Data Type: esriImageServiceDataTypeGeneric
Min Values: -3897.469970703125
Max Values: -2483.36572265625
Mean Values: -3055.063376630199
Standard Deviation Values: 254.91173732121274
Object ID Field:
Fields:
None
Default Mosaic Method: Center
Allowed Mosaic Methods:
SortField:
SortValue: null
Mosaic Operator: First
Default Compression Quality: 75
Default Resampling Method: Bilinear
Max Record Count: null
Max Image Height: 4100
Max Image Width: 15000
Max Download Image Count: null
Max Mosaic Image Count: null
Allow Raster Function: true
Allow Copy: true
Allow Analysis: true
Allow Compute TiePoints: false
Supports Statistics: false
Supports Advanced Queries: false
Use StandardizedQueries: true
Raster Type Infos:
Name: Raster Dataset
Description: Supports all ArcGIS Raster Datasets
Help:
Has Raster Attribute Table: false
Edit Fields Info: null
Ownership Based AccessControl For Rasters: null
Child Resources:
Info
Histograms
Statistics
Key Properties
Legend
Raster Function Infos
Supported Operations:
Export Image
Identify
Measure
Compute Histograms
Compute Statistics Histograms
Get Samples
Compute Class Statistics
Query Boundary
Compute Pixel Location
Compute Angles
Validate
Project