View In:
ArcGIS JavaScript
ArcGIS Online Map Viewer
ArcGIS Earth
Service Description: Gronningen/LSS_1_B
Name: Gronningen/LSS_1_B
Description:
Single Fused Map Cache: false
Extent:
XMin: 708415.8699993567
YMin: 6983440.808738351
XMax: 792865.8699993567
YMax: 7080840.808738351
Spatial Reference: 102100
(3857)
LatestVCSWkid(0)
Initial Extent:
XMin: 708415.8699993567
YMin: 6983440.808738351
XMax: 792865.8699993567
YMax: 7080840.808738351
Spatial Reference: 102100
(3857)
LatestVCSWkid(0)
Full Extent:
XMin: 708415.8699993567
YMin: 6983440.808738351
XMax: 792865.8699993567
YMax: 7080840.808738351
Spatial Reference: 102100
(3857)
LatestVCSWkid(0)
Pixel Size X: 50.0
Pixel Size Y: 50.0
Band Count: 1
Pixel Type: F32
RasterFunction Infos: {"rasterFunctionInfos": [{
"name": "None",
"description": "",
"help": ""
}]}
Mensuration Capabilities: Basic
Inspection Capabilities:
Has Histograms: true
Has Colormap: false
Has Multi Dimensions : false
Rendering Rule:
Min Scale: 0
Max Scale: 0
Copyright Text:
Service Data Type: esriImageServiceDataTypeGeneric
Min Values: -4270.05908203125
Max Values: -2656.536376953125
Mean Values: -3287.510794454866
Standard Deviation Values: 280.8158016774596
Object ID Field:
Fields:
None
Default Mosaic Method: Center
Allowed Mosaic Methods:
SortField:
SortValue: null
Mosaic Operator: First
Default Compression Quality: 75
Default Resampling Method: Bilinear
Max Record Count: null
Max Image Height: 4100
Max Image Width: 15000
Max Download Image Count: null
Max Mosaic Image Count: null
Allow Raster Function: true
Allow Copy: true
Allow Analysis: true
Allow Compute TiePoints: false
Supports Statistics: false
Supports Advanced Queries: false
Use StandardizedQueries: true
Raster Type Infos:
Name: Raster Dataset
Description: Supports all ArcGIS Raster Datasets
Help:
Has Raster Attribute Table: false
Edit Fields Info: null
Ownership Based AccessControl For Rasters: null
Child Resources:
Info
Histograms
Statistics
Key Properties
Legend
Raster Function Infos
Supported Operations:
Export Image
Identify
Measure
Compute Histograms
Compute Statistics Histograms
Get Samples
Compute Class Statistics
Query Boundary
Compute Pixel Location
Compute Angles
Validate
Project