{
 "currentVersion": 11.4,
 "serviceDescription": "SN2/H70_Time",
 "name": "SN2/H70_Time",
 "description": "",
 "extent": {
  "xmin": 633148,
  "ymin": 6279900,
  "xmax": 639508,
  "ymax": 6287628,
  "spatialReference": {
   "wkid": 32631,
   "latestWkid": 32631
  }
 },
 "initialExtent": {
  "xmin": 633148,
  "ymin": 6279900,
  "xmax": 639508,
  "ymax": 6287628,
  "spatialReference": {
   "wkid": 32631,
   "latestWkid": 32631
  }
 },
 "fullExtent": {
  "xmin": 633148,
  "ymin": 6279900,
  "xmax": 639508,
  "ymax": 6287628,
  "spatialReference": {
   "wkid": 32631,
   "latestWkid": 32631
  }
 },
 "sortableFields": "",
 "bandCount": 1,
 "pixelType": "F32",
 "minValues": [
  -448.3999938964844
 ],
 "maxValues": [
  -90.19999694824219
 ],
 "meanValues": [
  -300.5185194427289
 ],
 "stdvValues": [
  115.60533184270959
 ],
 "hasMultidimensions": false,
 "pixelSizeX": 8,
 "pixelSizeY": 8,
 "meanPixelSize": 8,
 "datasetFormat": "FGDBR",
 "uncompressedSize": 3071880,
 "blockWidth": 128,
 "blockHeight": 128,
 "compressionType": "NONE",
 "bandNames": [
  "Band_1"
 ],
 "allowCopy": true,
 "allowAnalysis": true,
 "itemAccess": false,
 "inspectionCapabilities": "",
 "minPixelSize": 0,
 "maxPixelSize": 0,
 "copyrightText": "",
 "serviceDataType": "esriImageServiceDataTypeGeneric",
 "serviceSourceType": "esriImageServiceSourceTypeDataset",
 "objectIdField": "",
 "fields": [],
 "capabilities": "Image,Metadata,Mensuration",
 "defaultMosaicMethod": "Center",
 "allowedMosaicMethods": "",
 "sortField": "",
 "sortValue": null,
 "sortAscending": true,
 "mosaicOperator": "First",
 "defaultCompressionQuality": 75,
 "defaultResamplingMethod": "Bilinear",
 "maxImageHeight": 4100,
 "maxImageWidth": 15000,
 "allowRasterFunction": true,
 "rasterFunctionInfos": [
  {
   "name": "None",
   "description": "",
   "help": ""
  }
 ],
 "rasterTypeInfos": [
  {
   "name": "Raster Dataset",
   "description": "Supports all ArcGIS Raster Datasets",
   "help": ""
  }
 ],
 "mensurationCapabilities": "Basic",
 "hasHistograms": true,
 "hasColormap": false,
 "hasRasterAttributeTable": false,
 "minScale": 0,
 "maxScale": 0,
 "exportTilesAllowed": false,
 "supportsStatistics": false,
 "supportsAdvancedQueries": false,
 "editFieldsInfo": null,
 "ownershipBasedAccessControlForRasters": null,
 "allowComputeTiePoints": false,
 "useStandardizedQueries": true,
 "advancedQueryCapabilities": {
  "useStandardizedQueries": true,
  "supportsStatistics": false,
  "supportsOrderBy": false,
  "supportsDistinct": false,
  "supportsPagination": false
 },
 "spatialReference": {
  "wkid": 32631,
  "latestWkid": 32631
 }
}
