{
 "currentVersion": 11.4,
 "serviceDescription": "Gullfaks/Gullfaks_BCU__Depth_tif",
 "name": "Gullfaks/Gullfaks_BCU__Depth_tif",
 "description": "",
 "extent": {
  "xmin": 450400,
  "ymin": 6780100,
  "xmax": 458950,
  "ymax": 6789750,
  "spatialReference": {
   "wkid": 23031,
   "latestWkid": 23031
  }
 },
 "initialExtent": {
  "xmin": 450400,
  "ymin": 6780100,
  "xmax": 458950,
  "ymax": 6789750,
  "spatialReference": {
   "wkid": 23031,
   "latestWkid": 23031
  }
 },
 "fullExtent": {
  "xmin": 450400,
  "ymin": 6780100,
  "xmax": 458950,
  "ymax": 6789750,
  "spatialReference": {
   "wkid": 23031,
   "latestWkid": 23031
  }
 },
 "sortableFields": "",
 "bandCount": 1,
 "pixelType": "F32",
 "minValues": [
  -2127.8291015625
 ],
 "maxValues": [
  -1719.1160888672
 ],
 "meanValues": [
  -1944.2340666784
 ],
 "stdvValues": [
  92.646580495586
 ],
 "hasMultidimensions": false,
 "pixelSizeX": 50,
 "pixelSizeY": 50,
 "meanPixelSize": 50,
 "datasetFormat": "TIFF",
 "uncompressedSize": 132012,
 "blockWidth": 171,
 "blockHeight": 11,
 "compressionType": "None",
 "bandNames": [
  "Band_1"
 ],
 "allowCopy": true,
 "allowAnalysis": true,
 "itemAccess": false,
 "inspectionCapabilities": "",
 "noDataValue": 3.4028234663852886E38,
 "noDataValues": [
  3.4028234663852886E38
 ],
 "minPixelSize": 0,
 "maxPixelSize": 0,
 "copyrightText": "",
 "serviceDataType": "esriImageServiceDataTypeGeneric",
 "serviceSourceType": "esriImageServiceSourceTypeDataset",
 "objectIdField": "",
 "fields": [],
 "capabilities": "Image,Metadata,Mensuration",
 "defaultMosaicMethod": "Center",
 "allowedMosaicMethods": "",
 "sortField": "",
 "sortValue": null,
 "sortAscending": true,
 "mosaicOperator": "First",
 "defaultCompressionQuality": 75,
 "defaultResamplingMethod": "Bilinear",
 "maxImageHeight": 4100,
 "maxImageWidth": 15000,
 "allowRasterFunction": true,
 "rasterFunctionInfos": [
  {
   "name": "None",
   "description": "",
   "help": ""
  }
 ],
 "rasterTypeInfos": [
  {
   "name": "Raster Dataset",
   "description": "Supports all ArcGIS Raster Datasets",
   "help": ""
  }
 ],
 "mensurationCapabilities": "Basic",
 "hasHistograms": true,
 "hasColormap": false,
 "hasRasterAttributeTable": false,
 "minScale": 0,
 "maxScale": 0,
 "exportTilesAllowed": false,
 "supportsStatistics": false,
 "supportsAdvancedQueries": false,
 "editFieldsInfo": null,
 "ownershipBasedAccessControlForRasters": null,
 "allowComputeTiePoints": false,
 "useStandardizedQueries": true,
 "advancedQueryCapabilities": {
  "useStandardizedQueries": true,
  "supportsStatistics": false,
  "supportsOrderBy": false,
  "supportsDistinct": false,
  "supportsPagination": false
 },
 "spatialReference": {
  "wkid": 23031,
  "latestWkid": 23031
 }
}
