<?xml version="1.0" encoding="UTF-8" standalone="no"?>
<metadata xml:lang="en">
<Esri>
<CreaDate>20191203</CreaDate>
<CreaTime>11500200</CreaTime>
<ArcGISFormat>1.0</ArcGISFormat>
<SyncOnce>FALSE</SyncOnce>
<DataProperties>
<lineage>
<Process Date="20191203" Time="115002" ToolSource="c:\program files\arcgis\pro\Resources\ArcToolbox\toolboxes\Data Management Tools.tbx\MosaicToNewRaster">MosaicToNewRaster C:\Users\eric.andersson\Desktop\Temporary2.gdb\MMT_270_FR_RVO_TNW_EM2040D_DTU15_MSL_DTM_1m_A1;C:\Users\eric.andersson\Desktop\Temporary2.gdb\MMT_270_FR_RVO_TNW_EM2040D_DTU15_MSL_DTM_1m_A2;C:\Users\eric.andersson\Desktop\Temporary2.gdb\MMT_270_FR_RVO_TNW_EM2040D_DTU15_MSL_DTM_1m_A3;C:\Users\eric.andersson\Desktop\Temporary2.gdb\MMT_270_FR_RVO_TNW_EM2040D_DTU15_MSL_DTM_1m_A4;C:\Users\eric.andersson\Desktop\Temporary2.gdb\MMT_270_FR_RVO_TNW_EM2040D_DTU15_MSL_DTM_1m_A5;C:\Users\eric.andersson\Desktop\Temporary2.gdb\MMT_270_FR_RVO_TNW_EM2040D_DTU15_MSL_DTM_1m_A6;C:\Users\eric.andersson\Desktop\Temporary2.gdb\MMT_270_FR_RVO_TNW_EM2040D_DTU15_MSL_DTM_1m_A7;C:\Users\eric.andersson\Desktop\Temporary2.gdb\MMT_270_FR_RVO_TNW_EM2040D_DTU15_MSL_DTM_1m_A8;C:\Users\eric.andersson\Desktop\Temporary2.gdb\MMT_270_FR_RVO_TNW_EM2040D_DTU15_MSL_DTM_1m_A9;C:\Users\eric.andersson\Desktop\Temporary2.gdb\MMT_270_FR_RVO_TNW_EM2040D_DTU15_MSL_DTM_1m_A10;C:\Users\eric.andersson\Desktop\Temporary2.gdb\MMT_270_FR_RVO_TNW_EM2040D_DTU15_MSL_DTM_1m_A11;C:\Users\eric.andersson\Desktop\Temporary2.gdb\MMT_270_FR_RVO_TNW_EM2040D_DTU15_MSL_DTM_1m_A12;C:\Users\eric.andersson\Desktop\Temporary2.gdb\MMT_270_FR_RVO_TNW_EM2040D_DTU15_MSL_DTM_1m_A13;C:\Users\eric.andersson\Desktop\Temporary2.gdb\MMT_270_FR_RVO_TNW_EM2040D_DTU15_MSL_DTM_1m_A14;C:\Users\eric.andersson\Desktop\Temporary2.gdb\MMT_270_FR_RVO_TNW_EM2040D_DTU15_MSL_DTM_1m_B0;C:\Users\eric.andersson\Desktop\Temporary2.gdb\MMT_270_FR_RVO_TNW_EM2040D_DTU15_MSL_DTM_1m_B1;C:\Users\eric.andersson\Desktop\Temporary2.gdb\MMT_270_FR_RVO_TNW_EM2040D_DTU15_MSL_DTM_1m_B2;C:\Users\eric.andersson\Desktop\Temporary2.gdb\MMT_270_FR_RVO_TNW_EM2040D_DTU15_MSL_DTM_1m_B3;C:\Users\eric.andersson\Desktop\Temporary2.gdb\MMT_270_FR_RVO_TNW_EM2040D_DTU15_MSL_DTM_1m_B4;C:\Users\eric.andersson\Desktop\Temporary2.gdb\MMT_270_FR_RVO_TNW_EM2040D_DTU15_MSL_DTM_1m_B5;C:\Users\eric.andersson\Desktop\Temporary2.gdb\MMT_270_FR_RVO_TNW_EM2040D_DTU15_MSL_DTM_1m_B6;C:\Users\eric.andersson\Desktop\Temporary2.gdb\MMT_270_FR_RVO_TNW_EM2040D_DTU15_MSL_DTM_1m_B7;C:\Users\eric.andersson\Desktop\Temporary2.gdb\MMT_270_FR_RVO_TNW_EM2040D_DTU15_MSL_DTM_1m_B8;C:\Users\eric.andersson\Desktop\Temporary2.gdb\MMT_270_FR_RVO_TNW_EM2040D_DTU15_MSL_DTM_1m_B9;C:\Users\eric.andersson\Desktop\Temporary2.gdb\MMT_270_FR_RVO_TNW_EM2040D_DTU15_MSL_DTM_1m_B10;C:\Users\eric.andersson\Desktop\Temporary2.gdb\MMT_270_FR_RVO_TNW_EM2040D_DTU15_MSL_DTM_1m_B11;C:\Users\eric.andersson\Desktop\Temporary2.gdb\MMT_270_FR_RVO_TNW_EM2040D_DTU15_MSL_DTM_1m_B12;C:\Users\eric.andersson\Desktop\Temporary2.gdb\MMT_270_FR_RVO_TNW_EM2040D_DTU15_MSL_DTM_1m_B13;C:\Users\eric.andersson\Desktop\Temporary2.gdb\MMT_270_FR_RVO_TNW_EM2040D_DTU15_MSL_DTM_1m_B14;C:\Users\eric.andersson\Desktop\Temporary2.gdb\MMT_270_FR_RVO_TNW_EM2040D_DTU15_MSL_DTM_1m_C2;C:\Users\eric.andersson\Desktop\Temporary2.gdb\MMT_270_FR_RVO_TNW_EM2040D_DTU15_MSL_DTM_1m_C3;C:\Users\eric.andersson\Desktop\Temporary2.gdb\MMT_270_FR_RVO_TNW_EM2040D_DTU15_MSL_DTM_1m_C4;C:\Users\eric.andersson\Desktop\Temporary2.gdb\MMT_270_FR_RVO_TNW_EM2040D_DTU15_MSL_DTM_1m_C5;C:\Users\eric.andersson\Desktop\Temporary2.gdb\MMT_270_FR_RVO_TNW_EM2040D_DTU15_MSL_DTM_1m_C6;C:\Users\eric.andersson\Desktop\Temporary2.gdb\MMT_270_FR_RVO_TNW_EM2040D_DTU15_MSL_DTM_1m_C7;C:\Users\eric.andersson\Desktop\Temporary2.gdb\MMT_270_FR_RVO_TNW_EM2040D_DTU15_MSL_DTM_1m_C8;C:\Users\eric.andersson\Desktop\Temporary2.gdb\MMT_270_FR_RVO_TNW_EM2040D_DTU15_MSL_DTM_1m_C9;C:\Users\eric.andersson\Desktop\Temporary2.gdb\MMT_270_FR_RVO_TNW_EM2040D_DTU15_MSL_DTM_1m_C10;C:\Users\eric.andersson\Desktop\Temporary2.gdb\MMT_270_FR_RVO_TNW_EM2040D_DTU15_MSL_DTM_1m_C11;C:\Users\eric.andersson\Desktop\Temporary2.gdb\MMT_270_FR_RVO_TNW_EM2040D_DTU15_MSL_DTM_1m_C12;C:\Users\eric.andersson\Desktop\Temporary2.gdb\MMT_270_FR_RVO_TNW_EM2040D_DTU15_MSL_DTM_1m_C13;C:\Users\eric.andersson\Desktop\Temporary2.gdb\MMT_270_FR_RVO_TNW_EM2040D_DTU15_MSL_DTM_1m_D8;C:\Users\eric.andersson\Desktop\Temporary2.gdb\MMT_270_FR_RVO_TNW_EM2040D_DTU15_MSL_DTM_1m_D9;C:\Users\eric.andersson\Desktop\Temporary2.gdb\MMT_270_FR_RVO_TNW_EM2040D_DTU15_MSL_DTM_1m_D10;C:\Users\eric.andersson\Desktop\Temporary2.gdb\MMT_270_FR_RVO_TNW_EM2040D_DTU15_MSL_DTM_1m_D11;C:\Users\eric.andersson\Desktop\Temporary2.gdb\MMT_270_FR_RVO_TNW_EM2040D_DTU15_MSL_DTM_1m_D12 C:\Users\eric.andersson\Desktop\WORK\RVO\103270_RVO_TNW_GIS_Database_MMT.gdb MMT_270_FR_RVO_TNW_EM2040D_DTU15_MSL_DTM_1m_RASTER1 PROJCS['ETRS_1989_UTM_Zone_31N',GEOGCS['GCS_ETRS_1989',DATUM['D_ETRS_1989',SPHEROID['GRS_1980',6378137.0,298.257222101]],PRIMEM['Greenwich',0.0],UNIT['Degree',0.0174532925199433]],PROJECTION['Transverse_Mercator'],PARAMETER['False_Easting',500000.0],PARAMETER['False_Northing',0.0],PARAMETER['Central_Meridian',3.0],PARAMETER['Scale_Factor',0.9996],PARAMETER['Latitude_Of_Origin',0.0],UNIT['Meter',1.0]] "32 bit float" # 1 Last First</Process>
<Process Date="20221215" Time="213913" ToolSource="c:\program files\arcgis\pro\Resources\ArcToolbox\toolboxes\Data Management Tools.tbx\Clip">Clip Seabed\MMT_270_FR_RVO_TNW_EM2040D_DTU15_MSL_DTM_1m "675363.225727956 5987294.20614999 677463.251552564 5988864.44546914" "C:\Users\erlendk\OneDrive - Geodata\Documents\ArcGIS\Projects\TNW\TNW.gdb\DTM_1m" SeismicCUbes 3.4e+38 NONE NO_MAINTAIN_EXTENT</Process>
<Process Date="20221215" Time="214032" ToolSource="c:\program files\arcgis\pro\Resources\ArcToolbox\toolboxes\Data Management Tools.tbx\Rename">Rename "C:\Users\erlendk\OneDrive - Geodata\Documents\ArcGIS\Projects\TNW\TNW.gdb\DTM_1m" "C:\Users\erlendk\OneDrive - Geodata\Documents\ArcGIS\Projects\TNW\TNW.gdb\DTM_1m_clip" RasterDataset</Process>
</lineage>
<itemProps>
<itemName Sync="TRUE">DTM_1m</itemName>
<imsContentType Sync="TRUE">002</imsContentType>
<nativeExtBox>
<westBL Sync="TRUE">675362.500000</westBL>
<eastBL Sync="TRUE">677463.500000</eastBL>
<southBL Sync="TRUE">5987293.500000</southBL>
<northBL Sync="TRUE">5988864.500000</northBL>
<exTypeCode Sync="TRUE">1</exTypeCode>
</nativeExtBox>
<itemLocation>
<linkage Sync="TRUE">file://\\GD-PC1RM5SK\C$\Users\erlendk\OneDrive - Geodata\Documents\ArcGIS\Projects\TNW\TNW.gdb</linkage>
<protocol Sync="TRUE">Local Area Network</protocol>
</itemLocation>
</itemProps>
<coordRef>
<type Sync="TRUE">Projected</type>
<geogcsn Sync="TRUE">GCS_ETRS_1989</geogcsn>
<csUnits Sync="TRUE">Linear Unit: Meter (1.000000)</csUnits>
<projcsn Sync="TRUE">ETRS_1989_UTM_Zone_31N</projcsn>
<peXml Sync="TRUE">&lt;ProjectedCoordinateSystem xsi:type='typens:ProjectedCoordinateSystem' xmlns:xsi='http://www.w3.org/2001/XMLSchema-instance' xmlns:xs='http://www.w3.org/2001/XMLSchema' xmlns:typens='http://www.esri.com/schemas/ArcGIS/3.0.0'&gt;&lt;WKT&gt;PROJCS[&amp;quot;ETRS_1989_UTM_Zone_31N&amp;quot;,GEOGCS[&amp;quot;GCS_ETRS_1989&amp;quot;,DATUM[&amp;quot;D_ETRS_1989&amp;quot;,SPHEROID[&amp;quot;GRS_1980&amp;quot;,6378137.0,298.257222101]],PRIMEM[&amp;quot;Greenwich&amp;quot;,0.0],UNIT[&amp;quot;Degree&amp;quot;,0.0174532925199433]],PROJECTION[&amp;quot;Transverse_Mercator&amp;quot;],PARAMETER[&amp;quot;False_Easting&amp;quot;,500000.0],PARAMETER[&amp;quot;False_Northing&amp;quot;,0.0],PARAMETER[&amp;quot;Central_Meridian&amp;quot;,3.0],PARAMETER[&amp;quot;Scale_Factor&amp;quot;,0.9996],PARAMETER[&amp;quot;Latitude_Of_Origin&amp;quot;,0.0],UNIT[&amp;quot;Meter&amp;quot;,1.0],AUTHORITY[&amp;quot;EPSG&amp;quot;,25831]]&lt;/WKT&gt;&lt;XOrigin&gt;-5120900&lt;/XOrigin&gt;&lt;YOrigin&gt;-9998100&lt;/YOrigin&gt;&lt;XYScale&gt;450445547.3910538&lt;/XYScale&gt;&lt;ZOrigin&gt;-100000&lt;/ZOrigin&gt;&lt;ZScale&gt;10000&lt;/ZScale&gt;&lt;MOrigin&gt;-100000&lt;/MOrigin&gt;&lt;MScale&gt;10000&lt;/MScale&gt;&lt;XYTolerance&gt;0.001&lt;/XYTolerance&gt;&lt;ZTolerance&gt;0.001&lt;/ZTolerance&gt;&lt;MTolerance&gt;0.001&lt;/MTolerance&gt;&lt;HighPrecision&gt;true&lt;/HighPrecision&gt;&lt;WKID&gt;25831&lt;/WKID&gt;&lt;LatestWKID&gt;25831&lt;/LatestWKID&gt;&lt;/ProjectedCoordinateSystem&gt;</peXml>
</coordRef>
</DataProperties>
<SyncDate>20221215</SyncDate>
<SyncTime>21391200</SyncTime>
<ModDate>20221215</ModDate>
<ModTime>21391200</ModTime>
</Esri>
<dataIdInfo>
<envirDesc Sync="TRUE">Microsoft Windows 10 Version 10.0 (Build 22621) ; Esri ArcGIS 13.0.2.36056</envirDesc>
<dataLang>
<languageCode Sync="TRUE" value="eng"/>
<countryCode Sync="TRUE" value="USA"/>
</dataLang>
<idCitation>
<resTitle Sync="TRUE">DTM_1m_clip</resTitle>
<presForm>
<PresFormCd Sync="TRUE" value="011"/>
</presForm>
</idCitation>
<spatRpType>
<SpatRepTypCd Sync="TRUE" value="002"/>
</spatRpType>
<dataExt>
<geoEle>
<GeoBndBox esriExtentType="search">
<exTypeCode Sync="TRUE">1</exTypeCode>
<westBL Sync="TRUE">5.675831</westBL>
<eastBL Sync="TRUE">5.708767</eastBL>
<northBL Sync="TRUE">54.018219</northBL>
<southBL Sync="TRUE">54.003397</southBL>
</GeoBndBox>
</geoEle>
</dataExt>
<idAbs/>
<idPurp/>
<idCredit/>
<resConst>
<Consts>
<useLimit/>
</Consts>
</resConst>
</dataIdInfo>
<mdLang>
<languageCode Sync="TRUE" value="eng"/>
<countryCode Sync="TRUE" value="USA"/>
</mdLang>
<distInfo>
<distFormat>
<formatName Sync="TRUE">File Geodatabase Raster Dataset</formatName>
</distFormat>
</distInfo>
<mdHrLv>
<ScopeCd Sync="TRUE" value="005"/>
</mdHrLv>
<mdHrLvName Sync="TRUE">dataset</mdHrLvName>
<refSysInfo>
<RefSystem>
<refSysID>
<identCode Sync="TRUE" code="25831"/>
<idCodeSpace Sync="TRUE">EPSG</idCodeSpace>
<idVersion Sync="TRUE">4.3(4.0.0)</idVersion>
</refSysID>
</RefSystem>
</refSysInfo>
<spdoinfo>
<rastinfo>
<rasttype Sync="TRUE">Pixel</rasttype>
<rowcount Sync="TRUE">1571</rowcount>
<colcount Sync="TRUE">2101</colcount>
<rastxsz Sync="TRUE">1.000000</rastxsz>
<rastysz Sync="TRUE">1.000000</rastysz>
<rastbpp Sync="TRUE">32</rastbpp>
<vrtcount Sync="TRUE">1</vrtcount>
<rastorig Sync="TRUE">Upper Left</rastorig>
<rastcmap Sync="TRUE">FALSE</rastcmap>
<rastcomp Sync="TRUE">LZ77</rastcomp>
<rastband Sync="TRUE">1</rastband>
<rastdtyp Sync="TRUE">pixel codes</rastdtyp>
<rastifor Sync="TRUE">FGDBR</rastifor>
<rastplyr Sync="TRUE">TRUE</rastplyr>
</rastinfo>
</spdoinfo>
<spref>
<horizsys>
<planar>
<planci>
<plance Sync="TRUE">row and column</plance>
<coordrep>
<absres Sync="TRUE">1.000000</absres>
<ordres Sync="TRUE">1.000000</ordres>
</coordrep>
</planci>
</planar>
</horizsys>
</spref>
<mdDateSt Sync="TRUE">20221215</mdDateSt>
</metadata>
